Workbook

Sheet Erhebungsbogen Teil 1
A1: Erhebungsbogen zum Erweiterten Solidarpakt der EKD
A2: Erhebung im Jahr | B2: 2017 (Abfrage der Daten des Jahres 2016)
A3: Landeskirche:
A4: Auskunft erteilt:
B6: Telefon | C6: Fax | D6: E-Mail
A7: Unterschrift:
B9: Aktuell | C9: Mittelfristig | D9: Langfristig
A10: Struktur- und Entwicklungsdaten
A11: Gemeindeglieder | B11: EKD-Statistik
A12: Kirchengemeinden | B12: EKD-Statistik
A13: Kirchengebäude | B13: EKD-Statistik
A14: Pfarrer/innen im aktiven Dienst | B14: EKD-Statistik
A15: auf Gemeindepfarrstellen | B15: EKD-Statistik
A16: auf Funktionspfarrstellen | B16: EKD-Statistik
A17: auf sonst. landeskirchl. PfarrSt. | B17: EKD-Statistik
A19: Finanzdaten
A20: Kirchensteuer | B20: EKD-Statistik
A21: Staatsleistungen | B21: Abfrage EKD
A22: Finanzausgleich | B22: Berechnung EKD
A24: Haushaltsverpflichtungen
A25: Pfarrdienstkosten (aktive)
A26: Bruttopersonalkosten
A27: Versorgungssicherung *
A28: Beihilfen
A29: Beihilfevorsorge
A30: Versorgungsempfänger
A31: Versorgungsleistungen
A32: Beihilfen
A33: Versorgungssicherung * wenn > 40% BPK
A34: Versorgungsdeckungslücke Risikoinfo | B34: EKD Gutachten
A36: ="Abgabetermin: 3. Mai "&B2 -> Abgabetermin: 3. Mai 2017 (Abfrage der Daten des Jahres 2016) | D36: ="Erhebungsbogen Erweiterter Solidarpakt der EKD "&B2&" Teil 1" -> Erhebungsbogen Erweiterter Solidarpakt der EKD 2017 (Abfrage der Daten des Jahres 2016) Teil 1

Sheet Erhebungsbogen Teil 2
B1: Landeskirche | E1: Kirchengemeinden und Kirchenkreise
B2: Aktuell | C2: Mittelfristig | D2: Langfristig | E2: Aktuell | F2: Mittelfristig | G2: Langfristig
A3: Haushaltsverpflichtungen
A4: Anlagevermögen
A5: Abschreibung/Zuführung Substanzerh.-Rücklagen
A6: Auflösung Sonderposten
A8: Liquidität
A9: Rücklagen
A10: Rücklagen (ohne Clearing und Versorgung)
A11: darunter zweckgebunden
A12: darunter Substanzerhaltungsrücklagen
A13: Clearingrücklagen
A14: Versorgungsrücklagen
A15: Rücklagenzuführungen
... A20: darunter für investive und sich refinanzierende Objekte
G21: ="Erhebungsbogen Erweiterter Solidarpakt der EKD "&'Erhebungsbogen Teil 1'!B2&" Teil 2" -> Erhebungsbogen Erweiterter Solidarpakt der EKD 2017 (Abfrage der Daten des Jahres 2016) Teil 2

Sheet Datenreihe
A2: Struktur- und Entwicklungsdaten | V2: Finanzdaten | AA2: Haushaltsverpflichtungen - Pfarrdienstkosten | AM2: Haushaltsverpflichtungen - Versorgungsempfänger | AY2: Haushaltsverpflichtungen - Anlagevermögen | BK2: Liquidität - Rücklagen | CU2: Liquidität - Schulden
A3: Gemeinde-glieder | B3: Gemeinde-glieder mf | C3: Gemeinde-glieder lf | D3: Kirchen-gemeinden | E3: Kirchen-gemeinden M | F3: Kirchen-gemeinden L | G3: Kirchengebäude | H3: Kirchengebäude mf | I3: Kirchengebäude lf | J3: Pfarrer/innen | K3: Pfarrer/innen Gemeinde | L3: Pfarrer/innen Funktion | M3: Pfarrer/innen Sonstige | N3: Pfarrer/innen mf | O3: Pfarrer/innen Gemeinde mf | P3: Pfarrer/innen Funktion mf | Q3: Pfarrer/innen Sonstige mf | R3: Pfarrer/innen lf | S3: Pfarrer/innen Gemeinde lf | T3: Pfarrer/innen Funktion lf | U3: Pfarrer/innen Sonstige lf | V3: Kirchensteuer Netto | W3: Staats-leistungen | X3: Finanzausgleich | Y3: Kirchensteuer Netto mf | Z3: Kirchensteuer Netto lf | AA3: Bruttopersonal-kosten | AB3: Bruttopersonal-kosten mf | AC3: Bruttopersonal-kosten lf | AD3: Versorgungs-sicherung | AE3: Versorgungs-sicherung mf | AF3: Versorgungs-sicherung lf | AG3: Beihilfe Aktive | AH3: Beihilfe Aktive mf | AI3: Beihilfe Aktive lf | AJ3: Beihilfevorsorge | AK3: Beihilfevorsorge mf | AL3: Beihilfevorsorge lf | AM3: HH-Belastung-Versorgung | AN3: HH-Belastung-Versorgung mf | AO3: HH-Belastung-Versorgung lf | AP3: Beihilfe Vers. | AQ3: Beihilfe Vers. Mf | AR3: Beihilfe Vers. Lf | AS3: Kappung Vers.-Sicherung | AT3: Kappung Vers.-Sicherung mf | AU3: Kappung Vers.-Sicherung lf | AV3: VersDeckungs-lücke | AW3: VersDeckungs-lücke mf | AX3: VersDeckungs-lücke lf | AY3: Abschreibung LK | AZ3: SoPo LK | BA3: Abschreibung LK mf | BB3: SoPo LK mf | BC3: Abschreibung LK mf | BD3: SoPo LK lf | BE3: Abschreibung KG/KKr | BF3: SoPo KG/KKr | BG3: Abschreibung KG/KKr mf | BH3: SoPo KG/KKr mf | BI3: Abschreibung KG/KKr lf | BJ3: SoPo KG/KKr lf | BK3: LK Rücklagen Alle | BL3: LK Rücklagen Zweckgeb. | BM3: LK Rücklagen Substanzerh. | BN3: Claringrück-lagen | BO3: Versorgungs-rücklage | BP3: LK Rücklagen Alle mf | BQ3: LK Rücklagen Zweckgeb. Mf | BR3: LK Rücklagen Substanzerh. Mf | BS3: Claringrück-lagen mf | BT3: Versorgungs-rücklage mf | BU3: LK Rücklagen Alle lf | BV3: LK Rücklagen Zweckgeb. Lf | BW3: LK Rücklagen Substanzerh. Lf | BX3: Claringrück-lagen lf | BY3: Versorgungs-rücklage lf | BZ3: KG/KKr Rücklagen Alle | CA3: KG/KKr Rücklagen Zweckgeb. | CB3: KG/KKr Rücklagen Substanzerh. | CC3: KG/KKr Rücklagen Alle mf | CD3: KG/KKr Rücklagen Zweckgeb. Mf | CE3: KG/KKr Rücklagen Substanzerh. Mf | CF3: KG/KKr Rücklagen Alle lf | CG3: KG/KKr Rücklagen Zweckgeb. Lf | CH3: KG/KKr Rücklagen Substanzerh. Lf | CI3: Rücklagen-zuführungen LK | CJ3: Rücklagen-entnahmen LK | CK3: Rücklagen-zuführungen LK mf | CL3: Rücklagen-entnahmen LK mf | CM3: Rücklagen-zuführungen LK lf | CN3: Rücklagen-entnahmen LK lf | CO3: Rücklagen-zuführungen KG/KKr | CP3: Rücklagen-entnahmen KG/KKr | CQ3: Rücklagen-zuführungen KG/KKr mf | CR3: Rücklagen-entnahmen KG/KKr mf | CS3: Rücklagen-zuführungen KG/KKr lf | CT3: Rücklagen-entnahmen KG/KKr lf | CU3: Schulden LK | CV3: Investiv LK | CW3: Investiv-Ref LK | CX3: Schulden LK mf | CY3: Investiv LK mf | CZ3: Investiv-Ref LK mf | DA3: Schulden LK lf | DB3: Investiv LK lf | DC3: Investiv-Ref LK lf | DD3: Schulden KG/KKr | DE3: Investiv KG/KKr | DF3: Investiv-Ref KG/KKr | DG3: Schulden KG/KKr mf | DH3: Investiv KG/KKr mf | DI3: Investiv-Ref KG/KKr mf | DJ3: Schulden KG/KKr lf | DK3: Investiv KG/KKr lf | DL3: Investiv-Ref KG/KKr lf
A4: ='Erhebungsbogen Teil 1'!B11 -> EKD-Statistik | B4: ='Erhebungsbogen Teil 1'!C11 -> 0 | C4: ='Erhebungsbogen Teil 1'!D11 -> 0 | D4: ='Erhebungsbogen Teil 1'!B12 -> EKD-Statistik | E4: ='Erhebungsbogen Teil 1'!C12 -> 0 | F4: ='Erhebungsbogen Teil 1'!D12 -> 0 | G4: ='Erhebungsbogen Teil 1'!B13 -> EKD-Statistik | H4: ='Erhebungsbogen Teil 1'!C13 -> 0 | I4: ='Erhebungsbogen Teil 1'!D13 -> 0 | J4: ='Erhebungsbogen Teil 1'!B14 -> EKD-Statistik | K4: ='Erhebungsbogen Teil 1'!B15 -> EKD-Statistik | L4: ='Erhebungsbogen Teil 1'!B16 -> EKD-Statistik | M4: ='Erhebungsbogen Teil 1'!B17 -> EKD-Statistik | N4: ='Erhebungsbogen Teil 1'!C14 -> 0 | O4: ='Erhebungsbogen Teil 1'!C15 -> 0 | P4: ='Erhebungsbogen Teil 1'!C16 -> 0 | Q4: ='Erhebungsbogen Teil 1'!C17 -> 0 | R4: ='Erhebungsbogen Teil 1'!D14 -> 0 | S4: ='Erhebungsbogen Teil 1'!D15 -> 0 | T4: ='Erhebungsbogen Teil 1'!D16 -> 0 | U4: ='Erhebungsbogen Teil 1'!D17 -> 0 | V4: ='Erhebungsbogen Teil 1'!B20 -> EKD-Statistik | W4: ='Erhebungsbogen Teil 1'!B21 -> Abfrage EKD | X4: ='Erhebungsbogen Teil 1'!B22 -> Berechnung EKD | Y4: ='Erhebungsbogen Teil 1'!C20 -> 0 | Z4: ='Erhebungsbogen Teil 1'!D20 -> 0 | AA4: ='Erhebungsbogen Teil 1'!B26 -> 0 | AB4: ='Erhebungsbogen Teil 1'!C26 -> 0 | AC4: ='Erhebungsbogen Teil 1'!D26 -> 0 | AD4: ='Erhebungsbogen Teil 1'!B27 -> 0 | AE4: ='Erhebungsbogen Teil 1'!C27 -> 0 | AF4: ='Erhebungsbogen Teil 1'!D27 -> 0 | AG4: ='Erhebungsbogen Teil 1'!B28 -> 0 | AH4: ='Erhebungsbogen Teil 1'!C28 -> 0 | AI4: ='Erhebungsbogen Teil 1'!D28 -> 0 | AJ4: ='Erhebungsbogen Teil 1'!B29 -> 0 | AK4: ='Erhebungsbogen Teil 1'!C29 -> 0 | AL4: ='Erhebungsbogen Teil 1'!D29 -> 0 | AM4: ='Erhebungsbogen Teil 1'!B31 -> 0 | AN4: ='Erhebungsbogen Teil 1'!C31 -> 0 | AO4: ='Erhebungsbogen Teil 1'!D31 -> 0 | AP4: ='Erhebungsbogen Teil 1'!B32 -> 0 | AQ4: ='Erhebungsbogen Teil 1'!C32 -> 0 | AR4: ='Erhebungsbogen Teil 1'!D32 -> 0 | AS4: ='Erhebungsbogen Teil 1'!B33 -> 0 | AT4: ='Erhebungsbogen Teil 1'!C33 -> 0 | AU4: ='Erhebungsbogen Teil 1'!D33 -> 0 | AV4: ='Erhebungsbogen Teil 1'!B34 -> EKD Gutachten | AW4: ='Erhebungsbogen Teil 1'!C34 -> 0 | AX4: ='Erhebungsbogen Teil 1'!D34 -> 0 | AY4: ='Erhebungsbogen Teil 2'!B5 -> 0 | AZ4: ='Erhebungsbogen Teil 2'!B6 -> 0 | BA4: ='Erhebungsbogen Teil 2'!C5 -> 0 | BB4: ='Erhebungsbogen Teil 2'!C6 -> 0 | BC4: ='Erhebungsbogen Teil 2'!D5 -> 0 | BD4: ='Erhebungsbogen Teil 2'!D6 -> 0 | BE4: ='Erhebungsbogen Teil 2'!E5 -> 0 | BF4: ='Erhebungsbogen Teil 2'!E6 -> 0 | BG4: ='Erhebungsbogen Teil 2'!F5 -> 0 | BH4: ='Erhebungsbogen Teil 2'!F6 -> 0 | BI4: ='Erhebungsbogen Teil 2'!G5 -> 0 | BJ4: ='Erhebungsbogen Teil 2'!G6 -> 0 | BK4: ='Erhebungsbogen Teil 2'!B10 -> 0 | BL4: ='Erhebungsbogen Teil 2'!B11 -> 0 | BM4: ='Erhebungsbogen Teil 2'!B12 -> 0 | BN4: ='Erhebungsbogen Teil 2'!B13 -> 0 | BO4: ='Erhebungsbogen Teil 2'!B14 -> 0 | BP4: ='Erhebungsbogen Teil 2'!C10 -> 0 | BQ4: ='Erhebungsbogen Teil 2'!C11 -> 0 | BR4: ='Erhebungsbogen Teil 2'!C12 -> 0 | BS4: ='Erhebungsbogen Teil 2'!C13 -> 0 | BT4: ='Erhebungsbogen Teil 2'!C14 -> 0 | BU4: ='Erhebungsbogen Teil 2'!D10 -> 0 | BV4: ='Erhebungsbogen Teil 2'!D11 -> 0 | BW4: ='Erhebungsbogen Teil 2'!D12 -> 0 | BX4: ='Erhebungsbogen Teil 2'!D13 -> 0 | BY4: ='Erhebungsbogen Teil 2'!D14 -> 0 | BZ4: ='Erhebungsbogen Teil 2'!E10 -> 0 | CA4: ='Erhebungsbogen Teil 2'!E11 -> 0 | CB4: ='Erhebungsbogen Teil 2'!E12 -> 0 | CC4: ='Erhebungsbogen Teil 2'!F10 -> 0 | CD4: ='Erhebungsbogen Teil 2'!F11 -> 0 | CE4: ='Erhebungsbogen Teil 2'!F12 -> 0 | CF4: ='Erhebungsbogen Teil 2'!G10 -> 0 | CG4: ='Erhebungsbogen Teil 2'!G11 -> 0 | CH4: ='Erhebungsbogen Teil 2'!G12 -> 0 | CI4: ='Erhebungsbogen Teil 2'!B15 -> 0 | CJ4: ='Erhebungsbogen Teil 2'!B16 -> 0 | CK4: ='Erhebungsbogen Teil 2'!C15 -> 0 | CL4: ='Erhebungsbogen Teil 2'!C16 -> 0 | CM4: ='Erhebungsbogen Teil 2'!D15 -> 0 | CN4: ='Erhebungsbogen Teil 2'!D16 -> 0 | CO4: ='Erhebungsbogen Teil 2'!E15 -> 0 | CP4: ='Erhebungsbogen Teil 2'!E16 -> 0 | CQ4: ='Erhebungsbogen Teil 2'!F15 -> 0 | CR4: ='Erhebungsbogen Teil 2'!F16 -> 0 | CS4: ='Erhebungsbogen Teil 2'!G15 -> 0 | CT4: ='Erhebungsbogen Teil 2'!G16 -> 0 | CU4: ='Erhebungsbogen Teil 2'!B18 -> 0 | CV4: ='Erhebungsbogen Teil 2'!B19 -> 0 | CW4: ='Erhebungsbogen Teil 2'!B20 -> 0 | CX4: ='Erhebungsbogen Teil 2'!C18 -> 0 | CY4: ='Erhebungsbogen Teil 2'!C19 -> 0 | CZ4: ='Erhebungsbogen Teil 2'!C20 -> 0 | DA4: ='Erhebungsbogen Teil 2'!D18 -> 0 | DB4: ='Erhebungsbogen Teil 2'!D19 -> 0 | DC4: ='Erhebungsbogen Teil 2'!D20 -> 0 | DD4: ='Erhebungsbogen Teil 2'!E18 -> 0 | DE4: ='Erhebungsbogen Teil 2'!E19 -> 0 | DF4: ='Erhebungsbogen Teil 2'!E20 -> 0 | DG4: ='Erhebungsbogen Teil 2'!F18 -> 0 | DH4: ='Erhebungsbogen Teil 2'!F19 -> 0 | DI4: ='Erhebungsbogen Teil 2'!F20 -> 0 | DJ4: ='Erhebungsbogen Teil 2'!G18 -> 0 | DK4: ='Erhebungsbogen Teil 2'!G19 -> 0 | DL4: ='Erhebungsbogen Teil 2'!G20 -> 0

Sheet Datenreihe verborgen
A2: Struktur- und Entwicklungsdaten | V2: Finanzdaten | AA2: Haushaltsverpflichtungen - Pfarrdienstkosten | AM2: Haushaltsverpflichtungen - Versorgungsempfänger | AY2: Haushaltsverpflichtungen - Anlagevermögen | BK2: Liquidität - Rücklagen | CU2: Liquidität - Schulden
A3: Gemeinde-glieder | B3: Gemeinde-glieder mf | C3: Gemeinde-glieder lf | D3: Kirchen-gemeinden | E3: Kirchen-gemeinden M | F3: Kirchen-gemeinden L | G3: Kirchengebäude | H3: Kirchengebäude mf | I3: Kirchengebäude lf | J3: Pfarrer/innen | K3: Pfarrer/innen Gemeinde | L3: Pfarrer/innen Funktion | M3: Pfarrer/innen Sonstige | N3: Pfarrer/innen mf | O3: Pfarrer/innen Gemeinde mf | P3: Pfarrer/innen Funktion mf | Q3: Pfarrer/innen Sonstige mf | R3: Pfarrer/innen lf | S3: Pfarrer/innen Gemeinde lf | T3: Pfarrer/innen Funktion lf | U3: Pfarrer/innen Sonstige lf | V3: Kirchensteuer Netto | W3: Staats-leistungen | X3: Finanzausgleich | Y3: Kirchensteuer Netto mf | Z3: Kirchensteuer Netto lf | AA3: Bruttopersonal-kosten | AB3: Bruttopersonal-kosten mf | AC3: Bruttopersonal-kosten lf | AD3: Versorgungs-sicherung | AE3: Versorgungs-sicherung mf | AF3: Versorgungs-sicherung lf | AG3: Beihilfe Aktive | AH3: Beihilfe Aktive mf | AI3: Beihilfe Aktive lf | AJ3: Beihilfevorsorge | AK3: Beihilfevorsorge mf | AL3: Beihilfevorsorge lf | AM3: HH-Belastung-Versorgung | AN3: HH-Belastung-Versorgung mf | AO3: HH-Belastung-Versorgung lf | AP3: Beihilfe Vers. | AQ3: Beihilfe Vers. Mf | AR3: Beihilfe Vers. Lf | AS3: Kappung Vers.-Sicherung | AT3: Kappung Vers.-Sicherung mf | AU3: Kappung Vers.-Sicherung lf | AV3: VersDeckungs-lücke | AW3: VersDeckungs-lücke mf | AX3: VersDeckungs-lücke lf | AY3: Abschreibung LK | AZ3: SoPo LK | BA3: Abschreibung LK mf | BB3: SoPo LK mf | BC3: Abschreibung LK mf | BD3: SoPo LK lf | BE3: Abschreibung KG/KKr | BF3: SoPo KG/KKr | BG3: Abschreibung KG/KKr mf | BH3: SoPo KG/KKr mf | BI3: Abschreibung KG/KKr lf | BJ3: SoPo KG/KKr lf | BK3: LK Rücklagen Alle | BL3: LK Rücklagen Zweckgeb. | BM3: LK Rücklagen Substanzerh. | BN3: Claringrück-lagen | BO3: Versorgungs-rücklage | BP3: LK Rücklagen Alle mf | BQ3: LK Rücklagen Zweckgeb. Mf | BR3: LK Rücklagen Substanzerh. Mf | BS3: Claringrück-lagen mf | BT3: Versorgungs-rücklage mf | BU3: LK Rücklagen Alle lf | BV3: LK Rücklagen Zweckgeb. Lf | BW3: LK Rücklagen Substanzerh. Lf | BX3: Claringrück-lagen lf | BY3: Versorgungs-rücklage lf | BZ3: KG/KKr Rücklagen Alle | CA3: KG/KKr Rücklagen Zweckgeb. | CB3: KG/KKr Rücklagen Substanzerh. | CC3: KG/KKr Rücklagen Alle mf | CD3: KG/KKr Rücklagen Zweckgeb. Mf | CE3: KG/KKr Rücklagen Substanzerh. Mf | CF3: KG/KKr Rücklagen Alle lf | CG3: KG/KKr Rücklagen Zweckgeb. Lf | CH3: KG/KKr Rücklagen Substanzerh. Lf | CI3: Rücklagen-zuführungen LK | CJ3: Rücklagen-entnahmen LK | CK3: Rücklagen-zuführungen LK mf | CL3: Rücklagen-entnahmen LK mf | CM3: Rücklagen-zuführungen LK lf | CN3: Rücklagen-entnahmen LK lf | CO3: Rücklagen-zuführungen KG/KKr | CP3: Rücklagen-entnahmen KG/KKr | CQ3: Rücklagen-zuführungen KG/KKr mf | CR3: Rücklagen-entnahmen KG/KKr mf | CS3: Rücklagen-zuführungen KG/KKr lf | CT3: Rücklagen-entnahmen KG/KKr lf | CU3: Schulden LK | CV3: Investiv LK | CW3: Investiv-Ref LK | CX3: Schulden LK mf | CY3: Investiv LK mf | CZ3: Investiv-Ref LK mf | DA3: Schulden LK lf | DB3: Investiv LK lf | DC3: Investiv-Ref LK lf | DD3: Schulden KG/KKr | DE3: Investiv KG/KKr | DF3: Investiv-Ref KG/KKr | DG3: Schulden KG/KKr mf | DH3: Investiv KG/KKr mf | DI3: Investiv-Ref KG/KKr mf | DJ3: Schulden KG/KKr lf | DK3: Investiv KG/KKr lf | DL3: Investiv-Ref KG/KKr lf
A4: ='Erhebungsbogen Teil 1'!B11 -> EKD-Statistik | B4: ='Erhebungsbogen Teil 1'!C11 -> 0 | C4: ='Erhebungsbogen Teil 1'!D11 -> 0 | D4: ='Erhebungsbogen Teil 1'!B12 -> EKD-Statistik | E4: ='Erhebungsbogen Teil 1'!C12 -> 0 | F4: ='Erhebungsbogen Teil 1'!D12 -> 0 | G4: ='Erhebungsbogen Teil 1'!B13 -> EKD-Statistik | H4: ='Erhebungsbogen Teil 1'!C13 -> 0 | I4: ='Erhebungsbogen Teil 1'!D13 -> 0 | J4: ='Erhebungsbogen Teil 1'!B14 -> EKD-Statistik | K4: ='Erhebungsbogen Teil 1'!B15 -> EKD-Statistik | L4: ='Erhebungsbogen Teil 1'!B16 -> EKD-Statistik | M4: ='Erhebungsbogen Teil 1'!B17 -> EKD-Statistik | N4: ='Erhebungsbogen Teil 1'!C14 -> 0 | O4: ='Erhebungsbogen Teil 1'!C15 -> 0 | P4: ='Erhebungsbogen Teil 1'!C16 -> 0 | Q4: ='Erhebungsbogen Teil 1'!C17 -> 0 | R4: ='Erhebungsbogen Teil 1'!D14 -> 0 | S4: ='Erhebungsbogen Teil 1'!D15 -> 0 | T4: ='Erhebungsbogen Teil 1'!D16 -> 0 | U4: ='Erhebungsbogen Teil 1'!D17 -> 0 | V4: ='Erhebungsbogen Teil 1'!B20 -> EKD-Statistik | W4: ='Erhebungsbogen Teil 1'!B21 -> Abfrage EKD | X4: ='Erhebungsbogen Teil 1'!B22 -> Berechnung EKD | Y4: ='Erhebungsbogen Teil 1'!C20 -> 0 | Z4: ='Erhebungsbogen Teil 1'!D20 -> 0 | AA4: ='Erhebungsbogen Teil 1'!B26 -> 0 | AB4: ='Erhebungsbogen Teil 1'!C26 -> 0 | AC4: ='Erhebungsbogen Teil 1'!D26 -> 0 | AD4: ='Erhebungsbogen Teil 1'!B27 -> 0 | AE4: ='Erhebungsbogen Teil 1'!C27 -> 0 | AF4: ='Erhebungsbogen Teil 1'!D27 -> 0 | AG4: ='Erhebungsbogen Teil 1'!B28 -> 0 | AH4: ='Erhebungsbogen Teil 1'!C28 -> 0 | AI4: ='Erhebungsbogen Teil 1'!D28 -> 0 | AJ4: ='Erhebungsbogen Teil 1'!B29 -> 0 | AK4: ='Erhebungsbogen Teil 1'!C29 -> 0 | AL4: ='Erhebungsbogen Teil 1'!D29 -> 0 | AM4: ='Erhebungsbogen Teil 1'!B31 -> 0 | AN4: ='Erhebungsbogen Teil 1'!C31 -> 0 | AO4: ='Erhebungsbogen Teil 1'!D31 -> 0 | AP4: ='Erhebungsbogen Teil 1'!B32 -> 0 | AQ4: ='Erhebungsbogen Teil 1'!C32 -> 0 | AR4: ='Erhebungsbogen Teil 1'!D32 -> 0 | AS4: ='Erhebungsbogen Teil 1'!B33 -> 0 | AT4: ='Erhebungsbogen Teil 1'!C33 -> 0 | AU4: ='Erhebungsbogen Teil 1'!D33 -> 0 | AV4: ='Erhebungsbogen Teil 1'!B34 -> EKD Gutachten | AW4: ='Erhebungsbogen Teil 1'!C34 -> 0 | AX4: ='Erhebungsbogen Teil 1'!D34 -> 0 | AY4: ='Erhebungsbogen Teil 2'!B5 -> 0 | AZ4: ='Erhebungsbogen Teil 2'!B6 -> 0 | BA4: ='Erhebungsbogen Teil 2'!C5 -> 0 | BB4: ='Erhebungsbogen Teil 2'!C6 -> 0 | BC4: ='Erhebungsbogen Teil 2'!D5 -> 0 | BD4: ='Erhebungsbogen Teil 2'!D6 -> 0 | BE4: ='Erhebungsbogen Teil 2'!E5 -> 0 | BF4: ='Erhebungsbogen Teil 2'!E6 -> 0 | BG4: ='Erhebungsbogen Teil 2'!F5 -> 0 | BH4: ='Erhebungsbogen Teil 2'!F6 -> 0 | BI4: ='Erhebungsbogen Teil 2'!G5 -> 0 | BJ4: ='Erhebungsbogen Teil 2'!G6 -> 0 | BK4: ='Erhebungsbogen Teil 2'!B10 -> 0 | BL4: ='Erhebungsbogen Teil 2'!B11 -> 0 | BM4: ='Erhebungsbogen Teil 2'!B12 -> 0 | BN4: ='Erhebungsbogen Teil 2'!B13 -> 0 | BO4: ='Erhebungsbogen Teil 2'!B14 -> 0 | BP4: ='Erhebungsbogen Teil 2'!C10 -> 0 | BQ4: ='Erhebungsbogen Teil 2'!C11 -> 0 | BR4: ='Erhebungsbogen Teil 2'!C12 -> 0 | BS4: ='Erhebungsbogen Teil 2'!C13 -> 0 | BT4: ='Erhebungsbogen Teil 2'!C14 -> 0 | BU4: ='Erhebungsbogen Teil 2'!D10 -> 0 | BV4: ='Erhebungsbogen Teil 2'!D11 -> 0 | BW4: ='Erhebungsbogen Teil 2'!D12 -> 0 | BX4: ='Erhebungsbogen Teil 2'!D13 -> 0 | BY4: ='Erhebungsbogen Teil 2'!D14 -> 0 | BZ4: ='Erhebungsbogen Teil 2'!E10 -> 0 | CA4: ='Erhebungsbogen Teil 2'!E11 -> 0 | CB4: ='Erhebungsbogen Teil 2'!E12 -> 0 | CC4: ='Erhebungsbogen Teil 2'!F10 -> 0 | CD4: ='Erhebungsbogen Teil 2'!F11 -> 0 | CE4: ='Erhebungsbogen Teil 2'!F12 -> 0 | CF4: ='Erhebungsbogen Teil 2'!G10 -> 0 | CG4: ='Erhebungsbogen Teil 2'!G11 -> 0 | CH4: ='Erhebungsbogen Teil 2'!G12 -> 0 | CI4: ='Erhebungsbogen Teil 2'!B15 -> 0 | CJ4: ='Erhebungsbogen Teil 2'!B16 -> 0 | CK4: ='Erhebungsbogen Teil 2'!C15 -> 0 | CL4: ='Erhebungsbogen Teil 2'!C16 -> 0 | CM4: ='Erhebungsbogen Teil 2'!D15 -> 0 | CN4: ='Erhebungsbogen Teil 2'!D16 -> 0 | CO4: ='Erhebungsbogen Teil 2'!E15 -> 0 | CP4: ='Erhebungsbogen Teil 2'!E16 -> 0 | CQ4: ='Erhebungsbogen Teil 2'!F15 -> 0 | CR4: ='Erhebungsbogen Teil 2'!F16 -> 0 | CS4: ='Erhebungsbogen Teil 2'!G15 -> 0 | CT4: ='Erhebungsbogen Teil 2'!G16 -> 0 | CU4: ='Erhebungsbogen Teil 2'!B18 -> 0 | CV4: ='Erhebungsbogen Teil 2'!B19 -> 0 | CW4: ='Erhebungsbogen Teil 2'!B20 -> 0 | CX4: ='Erhebungsbogen Teil 2'!C18 -> 0 | CY4: ='Erhebungsbogen Teil 2'!C19 -> 0 | CZ4: ='Erhebungsbogen Teil 2'!C20 -> 0 | DA4: ='Erhebungsbogen Teil 2'!D18 -> 0 | DB4: ='Erhebungsbogen Teil 2'!D19 -> 0 | DC4: ='Erhebungsbogen Teil 2'!D20 -> 0 | DD4: ='Erhebungsbogen Teil 2'!E18 -> 0 | DE4: ='Erhebungsbogen Teil 2'!E19 -> 0 | DF4: ='Erhebungsbogen Teil 2'!E20 -> 0 | DG4: ='Erhebungsbogen Teil 2'!F18 -> 0 | DH4: ='Erhebungsbogen Teil 2'!F19 -> 0 | DI4: ='Erhebungsbogen Teil 2'!F20 -> 0 | DJ4: ='Erhebungsbogen Teil 2'!G18 -> 0 | DK4: ='Erhebungsbogen Teil 2'!G19 -> 0 | DL4: ='Erhebungsbogen Teil 2'!G20 -> 0
